BEGIN:VCALENDAR
VERSION:2.0
PRODID:-//Cedarvale Winery - ECPv6.15.20//NONSGML v1.0//EN
CALSCALE:GREGORIAN
METHOD:PUBLISH
X-ORIGINAL-URL:https://cedarvalewinery.com
X-WR-CALDESC:Events for Cedarvale Winery
REFRESH-INTERVAL;VALUE=DURATION:PT1H
X-Robots-Tag:noindex
X-PUBLISHED-TTL:PT1H
BEGIN:VTIMEZONE
TZID:America/New_York
BEGIN:DAYLIGHT
TZOFFSETFROM:-0500
TZOFFSETTO:-0400
TZNAME:EDT
DTSTART:20230312T070000
END:DAYLIGHT
BEGIN:STANDARD
TZOFFSETFROM:-0400
TZOFFSETTO:-0500
TZNAME:EST
DTSTART:20231105T060000
END:STANDARD
BEGIN:DAYLIGHT
TZOFFSETFROM:-0500
TZOFFSETTO:-0400
TZNAME:EDT
DTSTART:20240310T070000
END:DAYLIGHT
BEGIN:STANDARD
TZOFFSETFROM:-0400
TZOFFSETTO:-0500
TZNAME:EST
DTSTART:20241103T060000
END:STANDARD
BEGIN:DAYLIGHT
TZOFFSETFROM:-0500
TZOFFSETTO:-0400
TZNAME:EDT
DTSTART:20250309T070000
END:DAYLIGHT
BEGIN:STANDARD
TZOFFSETFROM:-0400
TZOFFSETTO:-0500
TZNAME:EST
DTSTART:20251102T060000
END:STANDARD
END:VTIMEZONE
BEGIN:VEVENT
DTSTART;TZID=America/New_York:20240406T150000
DTEND;TZID=America/New_York:20240406T180000
DTSTAMP:20260419T153216
CREATED:20240212T114612Z
LAST-MODIFIED:20240212T114612Z
UID:11170-1712415600-1712426400@cedarvalewinery.com
SUMMARY:Live Music with Rob McMahon
DESCRIPTION:
URL:https://cedarvalewinery.com/event/live-music-with-rob-mcmahon-10/
ATTACH;FMTTYPE=image/jpeg:https://cedarvalewinery.com/wp-content/uploads/2024/01/rob-Large.jpeg
END:VEVENT
BEGIN:VEVENT
DTSTART;TZID=America/New_York:20240406T190000
DTEND;TZID=America/New_York:20240406T210000
DTSTAMP:20260419T153216
CREATED:20240313T182730Z
LAST-MODIFIED:20240313T182730Z
UID:11273-1712430000-1712437200@cedarvalewinery.com
SUMMARY:Cedarvale Winery Presents Kricket Comedy
DESCRIPTION:Featuring: The Legendary Wid\, Donna Ottena & John Kensil\nTickets available at https://www.kricketcomedy.com/shows/258354 \nDoor Time: 6:15 PM\nGeneral Admission $19.00
URL:https://cedarvalewinery.com/event/cedarvale-winery-presents-kricket-comedy-2/
ATTACH;FMTTYPE=image/jpeg:https://cedarvalewinery.com/wp-content/uploads/2024/03/image_123650291-7-1.jpeg
END:VEVENT
BEGIN:VEVENT
DTSTART;TZID=America/New_York:20240413T150000
DTEND;TZID=America/New_York:20240413T180000
DTSTAMP:20260419T153216
CREATED:20240212T114827Z
LAST-MODIFIED:20240212T114827Z
UID:11172-1713020400-1713031200@cedarvalewinery.com
SUMMARY:Live Music with Greg Jones
DESCRIPTION:
URL:https://cedarvalewinery.com/event/live-music-with-greg-jones-3/
ATTACH;FMTTYPE=image/png:https://cedarvalewinery.com/wp-content/uploads/2024/02/Greg-Jones.png
END:VEVENT
BEGIN:VEVENT
DTSTART;TZID=America/New_York:20240420T150000
DTEND;TZID=America/New_York:20240420T180000
DTSTAMP:20260419T153216
CREATED:20240212T114928Z
LAST-MODIFIED:20240212T114928Z
UID:11175-1713625200-1713636000@cedarvalewinery.com
SUMMARY:Live Music with Rhondo
DESCRIPTION:
URL:https://cedarvalewinery.com/event/live-music-with-rhondo-12/
CATEGORIES:Cedarvale Hosted Events
ATTACH;FMTTYPE=image/png:https://cedarvalewinery.com/wp-content/uploads/2024/02/Rhondo.png
END:VEVENT
BEGIN:VEVENT
DTSTART;TZID=America/New_York:20240427T123000
DTEND;TZID=America/New_York:20240427T143000
DTSTAMP:20260419T153216
CREATED:20240313T171244Z
LAST-MODIFIED:20240313T171244Z
UID:11265-1714221000-1714228200@cedarvalewinery.com
SUMMARY:Cedarvale Winery Bb Brought to You
DESCRIPTION:Join us for an off-site Bb Brought to You workshop at Cedarvale Winery. Just bring your creativity and a willingness to learn. We provide all the materials and instruct you step-by-step to create a beautiful piece for your home or for a gift. Choose from a variety of paint and wood stain colors in the workshop. BYOB is not permitted but a glass of wine is included with your project total. Also\, the winery opens at noon if you wanted to get there early. After the workshop\, we encourage you to stay and enjoy some great live music at the Winery. \nBYOB is NOT PERMITTED for this workshop. A glass of wine is included with the booking. This is a 2 hour workshop\, all materials needed are included. Snacks and other drinks available for purchase. \n  \nMust Register With this Link: https://boardandbrush.com/swedesboro/bb-brought-to-you/events/cedarvale-winery-bb-brought-to-you-04-27-2024-1230pm-230pm/
URL:https://cedarvalewinery.com/event/cedarvale-winery-bb-brought-to-you/
CATEGORIES:Cedarvale Hosted Events
ATTACH;FMTTYPE=image/png:https://cedarvalewinery.com/wp-content/uploads/2024/03/Screenshot-2024-03-13-at-9.59.45-AM.png
END:VEVENT
BEGIN:VEVENT
DTSTART;TZID=America/New_York:20240427T150000
DTEND;TZID=America/New_York:20240427T180000
DTSTAMP:20260419T153216
CREATED:20240212T115056Z
LAST-MODIFIED:20240212T115056Z
UID:11177-1714230000-1714240800@cedarvalewinery.com
SUMMARY:Live Music with Guy Campo & Tommy
DESCRIPTION:
URL:https://cedarvalewinery.com/event/live-music-with-guy-campo-tommy/
CATEGORIES:Cedarvale Hosted Events
ATTACH;FMTTYPE=image/jpeg:https://cedarvalewinery.com/wp-content/uploads/2023/01/unnamed-1.jpg
END:VEVENT
BEGIN:VEVENT
DTSTART;TZID=America/New_York:20240428T140000
DTEND;TZID=America/New_York:20240428T170000
DTSTAMP:20260419T153216
CREATED:20240424T103836Z
LAST-MODIFIED:20240424T103836Z
UID:11298-1714312800-1714323600@cedarvalewinery.com
SUMMARY:Long Tall Sally-FULL BAND- at Cedarvale Winery!
DESCRIPTION:Full band show! Join us for an afternoon of great wine\, wonderful friends and all your classic rock and blues favorites!  \nLearn More: https://fb.me/e/7DvVwAkVN
URL:https://cedarvalewinery.com/event/long-tall-sally-full-band-at-cedarvale-winery/
CATEGORIES:Cedarvale Hosted Events
ATTACH;FMTTYPE=image/jpeg:https://cedarvalewinery.com/wp-content/uploads/2024/04/long-tall-sally.jpeg
END:VEVENT
BEGIN:VEVENT
DTSTART;TZID=America/New_York:20240509T180000
DTEND;TZID=America/New_York:20240509T210000
DTSTAMP:20260419T153216
CREATED:20240509T050609Z
LAST-MODIFIED:20240509T051106Z
UID:11313-1715277600-1715288400@cedarvalewinery.com
SUMMARY:Shopping Night
DESCRIPTION:10 Vendors
URL:https://cedarvalewinery.com/event/shopping-night-6/
CATEGORIES:Cedarvale Hosted Events
ATTACH;FMTTYPE=image/jpeg:https://cedarvalewinery.com/wp-content/uploads/2021/11/pexels-andrea-piacquadio-1050244.jpg
END:VEVENT
BEGIN:VEVENT
DTSTART;TZID=America/New_York:20240511T150000
DTEND;TZID=America/New_York:20240511T180000
DTSTAMP:20260419T153216
CREATED:20240509T052454Z
LAST-MODIFIED:20240509T052454Z
UID:11322-1715439600-1715450400@cedarvalewinery.com
SUMMARY:Mother’s Day Weekend Saturday – Greg Jones
DESCRIPTION:
URL:https://cedarvalewinery.com/event/mothers-day-weekend-saturday-greg-jones/
CATEGORIES:Cedarvale Hosted Events
ATTACH;FMTTYPE=image/jpeg:https://cedarvalewinery.com/wp-content/uploads/2024/05/image_123650291.jpeg
END:VEVENT
BEGIN:VEVENT
DTSTART;TZID=America/New_York:20240512T133000
DTEND;TZID=America/New_York:20240512T163000
DTSTAMP:20260419T153216
CREATED:20240509T053203Z
LAST-MODIFIED:20240509T053203Z
UID:11328-1715520600-1715531400@cedarvalewinery.com
SUMMARY:Kelsey Coan – Sunday Mother’s Day
DESCRIPTION:Help us welcome Kelsey Coan on her 1st appearance at Cedarvale Winery!Bring yourself\, mom\, the family or friends and enjoy a lovely afternoon!!
URL:https://cedarvalewinery.com/event/kelsey-coan-sunday-mothers-day/
CATEGORIES:Cedarvale Hosted Events
ATTACH;FMTTYPE=image/jpeg:https://cedarvalewinery.com/wp-content/uploads/2024/05/image_67518465-scaled.jpeg
END:VEVENT
BEGIN:VEVENT
DTSTART;TZID=America/New_York:20240601T090000
DTEND;TZID=America/New_York:20240601T170000
DTSTAMP:20260419T153216
CREATED:20240520T173031Z
LAST-MODIFIED:20240520T173459Z
UID:11341-1717232400-1717261200@cedarvalewinery.com
SUMMARY:Acts Of Graze Charcuterie Board workshop
DESCRIPTION:
URL:https://cedarvalewinery.com/event/acts-of-graze-charcuterie-board-workshop/
ATTACH;FMTTYPE=image/jpeg:https://cedarvalewinery.com/wp-content/uploads/2024/05/354427685_582617917354223_4602583425822552868_n.jpg
END:VEVENT
BEGIN:VEVENT
DTSTART;TZID=America/New_York:20240601T150000
DTEND;TZID=America/New_York:20240601T180000
DTSTAMP:20260419T153216
CREATED:20240520T173755Z
LAST-MODIFIED:20240520T173755Z
UID:11347-1717254000-1717264800@cedarvalewinery.com
SUMMARY:Rob McMahon ~ live music
DESCRIPTION:
URL:https://cedarvalewinery.com/event/rob-mcmahon-live-music/
ATTACH;FMTTYPE=image/jpeg:https://cedarvalewinery.com/wp-content/uploads/2024/01/rob-Large.jpeg
END:VEVENT
BEGIN:VEVENT
DTSTART;TZID=America/New_York:20240606T170000
DTEND;TZID=America/New_York:20240606T193000
DTSTAMP:20260419T153216
CREATED:20240601T233922Z
LAST-MODIFIED:20240601T233922Z
UID:11379-1717693200-1717702200@cedarvalewinery.com
SUMMARY:Wine & Wisdom Tarot Card Reading with Rocky
DESCRIPTION:Readings are 10 minutes for $20. Reservations are recommended please call 856.467.3088.
URL:https://cedarvalewinery.com/event/wine-wisdom-tarot-card-reading-with-rocky-2/
ATTACH;FMTTYPE=image/jpeg:https://cedarvalewinery.com/wp-content/uploads/2023/08/unnamed-3.jpg
END:VEVENT
BEGIN:VEVENT
DTSTART;TZID=America/New_York:20240608T150000
DTEND;TZID=America/New_York:20240608T180000
DTSTAMP:20260419T153216
CREATED:20240520T174412Z
LAST-MODIFIED:20240605T050903Z
UID:11351-1717858800-1717869600@cedarvalewinery.com
SUMMARY:Joe Rossi & Jerry Mayall live music
DESCRIPTION:Weather depending\, this event may be outside.
URL:https://cedarvalewinery.com/event/joe-rossi-jerry-mayall-live-music/
ATTACH;FMTTYPE=image/jpeg:https://cedarvalewinery.com/wp-content/uploads/2023/01/jerry-and-joe.jpeg
END:VEVENT
BEGIN:VEVENT
DTSTART;TZID=America/New_York:20240609T093000
DTEND;TZID=America/New_York:20240609T170000
DTSTAMP:20260419T153216
CREATED:20240520T175706Z
LAST-MODIFIED:20240520T175706Z
UID:11355-1717925400-1717952400@cedarvalewinery.com
SUMMARY:Crystal Sound Bath with Dani
DESCRIPTION:$20per person\, reservations required. Call 856.467.3088.
URL:https://cedarvalewinery.com/event/crystal-sound-bath-with-dani/
ATTACH;FMTTYPE=image/jpeg:https://cedarvalewinery.com/wp-content/uploads/2024/01/image_50430209-scaled.jpeg
END:VEVENT
BEGIN:VEVENT
DTSTART;TZID=America/New_York:20240615T123000
DTEND;TZID=America/New_York:20240615T143000
DTSTAMP:20260419T153216
CREATED:20240601T234417Z
LAST-MODIFIED:20240604T145745Z
UID:11384-1718454600-1718461800@cedarvalewinery.com
SUMMARY:Candle Making Class at Cedarvale Winery
DESCRIPTION:A DIY Candle Making Class! Curate your own scent\, pour 2 candles & Design your own labels! \nhttps://www.eventbrite.com/e/saturday-june-15th-candle-making-class-at-cedarvale-winery-tickets-895559220737 \n*** Before ticket purchases\, PLEASE READ our event policies below!!** \n**Tickets to this event are non-refundable. All ticket sales are FINAL. We DO NOT offer refunds or date exchange for any reason. Please ensure that you read the date\, time & location prior to purchasing your ticket. Thank you for understanding!**** \n** Your ticket includes your first drink *** \n__________________________________________________________________________________________________________ \nEvent Details: \nDate: Saturday June 15th\, 2024 \nVenue: Cedarvale Winery \nTime 12:30PM-2:30PM \nCrafting Experience: Curate your own SIGNITURE scent\, Pour (2) 160z mason jar candles that will burn 60-70 hours long\, Design your own labels to make a lasting memory! \nTicket Includes:Crafting your own scent\,Pouring (2) 16oz Mason Jar candles\, Designing your own labels\,1st drink is on us! \nTicket Price: $55 Per Person Homemade NJ Candles is proud to collaborating with Cedarvale Winery \, to host a Candle making workshop on Saturday June 15th from 12:30PM-2:30PM \nIt’s time to treat yourself\, join us for a FUN night out making Candles+ enjoying your FAVORITE glass of wine from Cerdarvale Winery! \nHow the class will go: \nHomemade NJ Candle will give a guided class on how to make candles\, in these steps below: \nStep one: Pick your scent Guided instructions will be given to help you pick your scent\, smell & mix scents to curate your very own personal fragrance \nSteph two: Pour Your Candle Learn the art of candle pouring\, discovering the perfect temperature for a seamless blend of scent and wax \nStep three: Labels While your candles dry (takes about 45-50 minutes) let your creativity run wild! Design labels with colored pencils\, markers\, stickers\, and more. ( All of this is provided but you are MORE than welcome to also bring anything you’d like to add to your candle!) \nStep four: Cut the wick & put your label on Cut the Wick & Put Your Label On After your candles have dried\, get ready for a brief session on candle care tips. Trim the wicks\, put on your label\, and get excited for the candles YOU made! \nBreak Time: During the break\, explore Cedarvale Winery’s cozy environment\, mingle\, and enjoy the day\, while your candles are drying. (Takes about 45-50 minutes) Cedarvale Winery is the perfect place to relax\, unwind\, and share the excitement with friends! We look forward to seeing you June 15th at Cedarvale Winery!
URL:https://cedarvalewinery.com/event/candle-making-class/
CATEGORIES:Cedarvale Hosted Events
ATTACH;FMTTYPE=image/png:https://cedarvalewinery.com/wp-content/uploads/2024/06/2.png
END:VEVENT
BEGIN:VEVENT
DTSTART;TZID=America/New_York:20240615T150000
DTEND;TZID=America/New_York:20240615T180000
DTSTAMP:20260419T153216
CREATED:20240601T234149Z
LAST-MODIFIED:20240601T234149Z
UID:11381-1718463600-1718474400@cedarvalewinery.com
SUMMARY:Jimmy Dunn Live Music
DESCRIPTION:
URL:https://cedarvalewinery.com/event/jimmy-dunn-live-music/
CATEGORIES:Cedarvale Hosted Events
ATTACH;FMTTYPE=image/jpeg:https://cedarvalewinery.com/wp-content/uploads/2022/10/jimmy-dunn-1-e1674495785479.jpg
END:VEVENT
BEGIN:VEVENT
DTSTART;TZID=America/New_York:20240622T150000
DTEND;TZID=America/New_York:20240622T180000
DTSTAMP:20260419T153216
CREATED:20240601T234547Z
LAST-MODIFIED:20240601T234547Z
UID:11387-1719068400-1719079200@cedarvalewinery.com
SUMMARY:Rhondo ~ Live Music
DESCRIPTION:
URL:https://cedarvalewinery.com/event/rhondo-live-music-4/
ATTACH;FMTTYPE=image/png:https://cedarvalewinery.com/wp-content/uploads/2024/02/Rhondo.png
END:VEVENT
BEGIN:VEVENT
DTSTART;TZID=America/New_York:20240629T150000
DTEND;TZID=America/New_York:20240629T180000
DTSTAMP:20260419T153216
CREATED:20230726T130207Z
LAST-MODIFIED:20240625T040908Z
UID:10617-1719673200-1719684000@cedarvalewinery.com
SUMMARY:John Rossi & Jerry Mayall
DESCRIPTION:
URL:https://cedarvalewinery.com/event/john-rossi-jerry-mayall/
LOCATION:Cedarvale Winery\, 205 Repaupo Station Road\, Swedesboro\, NJ\, 08085\, United States
ATTACH;FMTTYPE=image/jpeg:https://cedarvalewinery.com/wp-content/uploads/2023/07/362952020_1020507432418430_9017321890134559815_n.jpg
END:VEVENT
BEGIN:VEVENT
DTSTART;TZID=America/New_York:20240715T170000
DTEND;TZID=America/New_York:20240715T200000
DTSTAMP:20260419T153216
CREATED:20240708T133626Z
LAST-MODIFIED:20240708T133626Z
UID:11440-1721062800-1721073600@cedarvalewinery.com
SUMMARY:Long Tall Sally
DESCRIPTION:Sunday Evening Live Band Long Tall Sally will perform from 5pm to 8pm!\nWe do have plenty of outdoor seating\, you are always welcome to bring your own lawn chair and snacks. We have the wine – by the flight\, glass\, bottle or wine Slushie!\nIf you have a large group and would like to reserve a space or table\, please send us a message.\nWe look forward to this event!
URL:https://cedarvalewinery.com/event/long-tall-sally/
CATEGORIES:Cedarvale Hosted Events
ATTACH;FMTTYPE=image/jpeg:https://cedarvalewinery.com/wp-content/uploads/2024/07/448363326_1238945983907906_4448941562021521072_n.jpg
END:VEVENT
BEGIN:VEVENT
DTSTART;TZID=America/New_York:20240715T183000
DTEND;TZID=America/New_York:20240715T203000
DTSTAMP:20260419T153216
CREATED:20240708T132041Z
LAST-MODIFIED:20240708T132041Z
UID:11430-1721068200-1721075400@cedarvalewinery.com
SUMMARY:Summer Create a Graze Workshop​
DESCRIPTION:Join us fun night out to sip on your favorite wines from Cedarvale Winery while creating your own grazing board\nMelissa\, from Acts of Graze will be guiding you through her favorite tips and tricks in creating your own beautiful graze board that you can snack on at the winery or take home to share! \n\nEach board serves 4 and includes a variety of cured meats and artisan cheeses\, fresh and dried fruits\, fresh veggies\, house made dip\, jams\, chocolate\, breadsticks and crackers. \n\nSpace is limited\, get your tickets today! \n\n*please note ticket sales end on Friday July 19th and are non-refundable.
URL:https://cedarvalewinery.com/event/summer-create-a-graze-workshop/
CATEGORIES:Cedarvale Hosted Events
ATTACH;FMTTYPE=image/jpeg:https://cedarvalewinery.com/wp-content/uploads/2024/07/449419608_791944959754850_7032960392704051226_n.jpg
END:VEVENT
BEGIN:VEVENT
DTSTART;TZID=America/New_York:20240718T180000
DTEND;TZID=America/New_York:20240718T180000
DTSTAMP:20260419T153216
CREATED:20240708T134403Z
LAST-MODIFIED:20240708T134403Z
UID:11447-1721325600-1721325600@cedarvalewinery.com
SUMMARY:Paint & Sip at Cedarvale Winery
DESCRIPTION:
URL:https://cedarvalewinery.com/event/paint-sip-at-cedarvale-winery-3/
CATEGORIES:Cedarvale Hosted Events
ATTACH;FMTTYPE=image/jpeg:https://cedarvalewinery.com/wp-content/uploads/2024/07/439515395_947007707425750_8153530913843010329_n.jpg
END:VEVENT
BEGIN:VEVENT
DTSTART;TZID=America/New_York:20240720T130000
DTEND;TZID=America/New_York:20240720T180000
DTSTAMP:20260419T153216
CREATED:20240716T141601Z
LAST-MODIFIED:20240716T142231Z
UID:11462-1721480400-1721498400@cedarvalewinery.com
SUMMARY:Christmas in July Saturday July 20th
DESCRIPTION:We have several crafters and vendors.\n-Don’t Bully Us Animal Rescue \n-Cherry On Top Food Truck \n-Highland Teal \n-Orange You Crafty \n-Acts of Graze\n-Live Music with RHONDO from 3 to 6pm.
URL:https://cedarvalewinery.com/event/christmas-in-july-saturday-july-20th/
CATEGORIES:Cedarvale Hosted Events
ATTACH;FMTTYPE=image/jpeg:https://cedarvalewinery.com/wp-content/uploads/2024/07/big-image_123650291-8.jpg
END:VEVENT
BEGIN:VEVENT
DTSTART;TZID=America/New_York:20240727T150000
DTEND;TZID=America/New_York:20240727T180000
DTSTAMP:20260419T153216
CREATED:20240716T142122Z
LAST-MODIFIED:20240716T160749Z
UID:11466-1722092400-1722103200@cedarvalewinery.com
SUMMARY:Saturday July 27th Jimmy Dunn
DESCRIPTION:3pm till 6pm
URL:https://cedarvalewinery.com/event/saturday-july-27th-jimmy-dunn/
CATEGORIES:Cedarvale Hosted Events
ATTACH;FMTTYPE=image/jpeg:https://cedarvalewinery.com/wp-content/uploads/2023/01/jimmy-dunn-e1674494502709.jpg
END:VEVENT
BEGIN:VEVENT
DTSTART;TZID=America/New_York:20240803T150000
DTEND;TZID=America/New_York:20240803T180000
DTSTAMP:20260419T153216
CREATED:20240716T142439Z
LAST-MODIFIED:20240716T160612Z
UID:11468-1722697200-1722708000@cedarvalewinery.com
SUMMARY:Saturday\, August 3 with Rob McMahon
DESCRIPTION:From 3:00pm – 6:00pm
URL:https://cedarvalewinery.com/event/saturday-august-3-with-rob-mcmahon/
CATEGORIES:Cedarvale Hosted Events
ATTACH;FMTTYPE=image/jpeg:https://cedarvalewinery.com/wp-content/uploads/2024/01/rob-Large.jpeg
END:VEVENT
BEGIN:VEVENT
DTSTART;TZID=America/New_York:20240810T150000
DTEND;TZID=America/New_York:20240810T180000
DTSTAMP:20260419T153216
CREATED:20240805T201738Z
LAST-MODIFIED:20240823T010450Z
UID:11519-1723302000-1723312800@cedarvalewinery.com
SUMMARY:Live music with Greg Jones
DESCRIPTION:
URL:https://cedarvalewinery.com/event/live-music-with-greg-jones-4/
ATTACH;FMTTYPE=image/jpeg:https://cedarvalewinery.com/wp-content/uploads/2024/05/image_123650291.jpeg
END:VEVENT
BEGIN:VEVENT
DTSTART;TZID=America/New_York:20240817T150000
DTEND;TZID=America/New_York:20240817T180000
DTSTAMP:20260419T153216
CREATED:20240805T202033Z
LAST-MODIFIED:20240805T202033Z
UID:11526-1723906800-1723917600@cedarvalewinery.com
SUMMARY:Live music with RHONDO
DESCRIPTION:
URL:https://cedarvalewinery.com/event/live-music-with-rhondo-13/
ATTACH;FMTTYPE=image/png:https://cedarvalewinery.com/wp-content/uploads/2024/02/Rhondo.png
END:VEVENT
BEGIN:VEVENT
DTSTART;TZID=America/New_York:20240824T150000
DTEND;TZID=America/New_York:20240824T180000
DTSTAMP:20260419T153216
CREATED:20240823T010335Z
LAST-MODIFIED:20240823T114346Z
UID:11536-1724511600-1724522400@cedarvalewinery.com
SUMMARY:Live Music with Jimmy Dunn
DESCRIPTION:
URL:https://cedarvalewinery.com/event/live-music-with-jimmy-dunn-3/
ATTACH;FMTTYPE=image/jpeg:https://cedarvalewinery.com/wp-content/uploads/2022/10/jimmy-dunn-1-e1674495785479.jpg
END:VEVENT
BEGIN:VEVENT
DTSTART;TZID=America/New_York:20240825T130000
DTEND;TZID=America/New_York:20240825T170000
DTSTAMP:20260419T153216
CREATED:20240823T012332Z
LAST-MODIFIED:20240823T012332Z
UID:11545-1724590800-1724605200@cedarvalewinery.com
SUMMARY:Four Crows Apothecary ~ Shopping
DESCRIPTION:
URL:https://cedarvalewinery.com/event/four-crows-apothecary-shopping/
END:VEVENT
BEGIN:VEVENT
DTSTART;TZID=America/New_York:20240831T150000
DTEND;TZID=America/New_York:20240831T180000
DTSTAMP:20260419T153216
CREATED:20240823T012511Z
LAST-MODIFIED:20240823T114916Z
UID:11547-1725116400-1725127200@cedarvalewinery.com
SUMMARY:John Rossi & Jerry Mayall
DESCRIPTION:
URL:https://cedarvalewinery.com/event/john-rossi-jerry-mayall-2/
ATTACH;FMTTYPE=image/jpeg:https://cedarvalewinery.com/wp-content/uploads/2024/08/362952020_1020507432418430_9017321890134559815_n.jpg
END:VEVENT
END:VCALENDAR