BEGIN:VCALENDAR
VERSION:2.0
PRODID:-//Cedarvale Winery - ECPv6.15.20//NONSGML v1.0//EN
CALSCALE:GREGORIAN
METHOD:PUBLISH
X-ORIGINAL-URL:https://cedarvalewinery.com
X-WR-CALDESC:Events for Cedarvale Winery
REFRESH-INTERVAL;VALUE=DURATION:PT1H
X-Robots-Tag:noindex
X-PUBLISHED-TTL:PT1H
BEGIN:VTIMEZONE
TZID:America/New_York
BEGIN:DAYLIGHT
TZOFFSETFROM:-0500
TZOFFSETTO:-0400
TZNAME:EDT
DTSTART:20220313T070000
END:DAYLIGHT
BEGIN:STANDARD
TZOFFSETFROM:-0400
TZOFFSETTO:-0500
TZNAME:EST
DTSTART:20221106T060000
END:STANDARD
BEGIN:DAYLIGHT
TZOFFSETFROM:-0500
TZOFFSETTO:-0400
TZNAME:EDT
DTSTART:20230312T070000
END:DAYLIGHT
BEGIN:STANDARD
TZOFFSETFROM:-0400
TZOFFSETTO:-0500
TZNAME:EST
DTSTART:20231105T060000
END:STANDARD
BEGIN:DAYLIGHT
TZOFFSETFROM:-0500
TZOFFSETTO:-0400
TZNAME:EDT
DTSTART:20240310T070000
END:DAYLIGHT
BEGIN:STANDARD
TZOFFSETFROM:-0400
TZOFFSETTO:-0500
TZNAME:EST
DTSTART:20241103T060000
END:STANDARD
BEGIN:DAYLIGHT
TZOFFSETFROM:-0500
TZOFFSETTO:-0400
TZNAME:EDT
DTSTART:20250309T070000
END:DAYLIGHT
BEGIN:STANDARD
TZOFFSETFROM:-0400
TZOFFSETTO:-0500
TZNAME:EST
DTSTART:20251102T060000
END:STANDARD
END:VTIMEZONE
BEGIN:VEVENT
DTSTART;TZID=America/New_York:20231216T160000
DTEND;TZID=America/New_York:20231216T190000
DTSTAMP:20260420T041808
CREATED:20230927T190054Z
LAST-MODIFIED:20231208T115344Z
UID:10824-1702742400-1702753200@cedarvalewinery.com
SUMMARY:Long Tall Sally at Cedarvale Winery – Holiday Edition!
DESCRIPTION:Take a break from the madness and enjoy terrific local wine (makes a great gift- so it counts as shopping! Multi task!) and your fave classic rock and blues (and a few holiday selections) songs! \nCome on out and DO SALLY for the holidays!!!
URL:https://cedarvalewinery.com/event/long-tall-sally-holiday-edition/
LOCATION:Cedarvale Winery\, 205 Repaupo Station Road\, Swedesboro\, NJ\, 08085\, United States
CATEGORIES:Cedarvale Hosted Events
ATTACH;FMTTYPE=image/jpeg:https://cedarvalewinery.com/wp-content/uploads/2023/09/404316870_812242834141908_5842888741615061260_n.jpg
END:VEVENT
BEGIN:VEVENT
DTSTART;TZID=America/New_York:20231224T110000
DTEND;TZID=America/New_York:20231224T160000
DTSTAMP:20260420T041808
CREATED:20231116T185539Z
LAST-MODIFIED:20231208T120536Z
UID:10952-1703415600-1703433600@cedarvalewinery.com
SUMMARY:Christmas Day
DESCRIPTION:Closed December 25\, 2023
URL:https://cedarvalewinery.com/event/christmas-day/
LOCATION:Cedarvale Winery\, 205 Repaupo Station Road\, Swedesboro\, NJ\, 08085\, United States
ATTACH;FMTTYPE=image/jpeg:https://cedarvalewinery.com/wp-content/uploads/2019/11/holiday.jpg
END:VEVENT
BEGIN:VEVENT
DTSTART;TZID=America/New_York:20231231T110000
DTEND;TZID=America/New_York:20231231T160000
DTSTAMP:20260420T041808
CREATED:20231116T185649Z
LAST-MODIFIED:20231208T121329Z
UID:10954-1704020400-1704038400@cedarvalewinery.com
SUMMARY:New Year Day
DESCRIPTION:Closed January 1\, 2024
URL:https://cedarvalewinery.com/event/new-year-day/
LOCATION:Cedarvale Winery\, 205 Repaupo Station Road\, Swedesboro\, NJ\, 08085\, United States
ATTACH;FMTTYPE=image/webp:https://cedarvalewinery.com/wp-content/uploads/2022/11/pexels-jeshootscom-714703-scaled.webp
END:VEVENT
BEGIN:VEVENT
DTSTART;TZID=America/New_York:20240111T150000
DTEND;TZID=America/New_York:20240111T180000
DTSTAMP:20260420T041808
CREATED:20241205T171456Z
LAST-MODIFIED:20241205T171715Z
UID:11864-1704985200-1704996000@cedarvalewinery.com
SUMMARY:Live Music with Jimmy Dunn 3 to 6pm
DESCRIPTION:
URL:https://cedarvalewinery.com/event/live-music-with-jimmy-dunn-3-to-6pm/
ATTACH;FMTTYPE=image/jpeg:https://cedarvalewinery.com/wp-content/uploads/2023/01/383202798_1059882601814246_5655771603273117063_n.jpg
END:VEVENT
BEGIN:VEVENT
DTSTART;TZID=America/New_York:20240127T150000
DTEND;TZID=America/New_York:20240127T180000
DTSTAMP:20260420T041808
CREATED:20240115T161301Z
LAST-MODIFIED:20240115T161301Z
UID:11063-1706367600-1706378400@cedarvalewinery.com
SUMMARY:Live Music With Rhondo
DESCRIPTION:
URL:https://cedarvalewinery.com/event/live-music-with-rhondo-9/
ATTACH;FMTTYPE=image/jpeg:https://cedarvalewinery.com/wp-content/uploads/2021/05/Rhondo-scaled.jpeg
END:VEVENT
BEGIN:VEVENT
DTSTART;TZID=America/New_York:20240128T130000
DTEND;TZID=America/New_York:20240128T140000
DTSTAMP:20260420T041808
CREATED:20240115T163057Z
LAST-MODIFIED:20240115T163057Z
UID:11071-1706446800-1706450400@cedarvalewinery.com
SUMMARY:Ceramics with Paint A Treasure\, Haddonfield
DESCRIPTION:Reservations required
URL:https://cedarvalewinery.com/event/ceramics-with-paint-a-treasure-haddonfield/
ATTACH;FMTTYPE=image/jpeg:https://cedarvalewinery.com/wp-content/uploads/2022/02/different-ceramic-empty-plates-bowls.jpg
END:VEVENT
BEGIN:VEVENT
DTSTART;TZID=America/New_York:20240128T130000
DTEND;TZID=America/New_York:20240128T150000
DTSTAMP:20260420T041808
CREATED:20231215T165454Z
LAST-MODIFIED:20231215T165454Z
UID:11024-1706446800-1706454000@cedarvalewinery.com
SUMMARY:Paint & Sip at Cedarvale Winery
DESCRIPTION:Grab some friends and have a Sunday Funday Paint N Sip at Cedarvale Winery! Sip on your favorite Cedarvale Wine while our artists guide you to create your choice of two cozy 3d Signs: Coffee and Cocoa -or- Love Lives Here. We’ll provide a variety of paint colors to match your decor and teach you fun and easy painting techniques to make the project uniquely yours. No Experience Required! As always\, PAINT N TAKE same day! \nCOST: $46 pp\n​Included:\n• 3d Coffee and Cocoa Sign -OR- Love Lives Here (both are 12″ Round/Square)*\n• 1 Complementary Glass of Wine\n• Painting Instruction by our talented artists\n• All art supplies included\n• Laughter\, relaxation\, fun! \n**A large Selection of Cedarvale Wines + a Charcuterie Board and Snacks will be available for additional purchase. You are also welcome to bring in your own snacks too! ** Due to insurance regulations\, NO outside wine is allowed. \n*Please arrive at 12:30pm to get seated\, and select your complementary glass of wine.
URL:https://cedarvalewinery.com/event/paint-sip-at-cedarvale-winery-2/
LOCATION:Cedarvale Winery\, 205 Repaupo Station Road\, Swedesboro\, NJ\, 08085\, United States
ATTACH;FMTTYPE=image/jpeg:https://cedarvalewinery.com/wp-content/uploads/2023/12/410513498_857951022998086_3638728953009452152_n.jpg
END:VEVENT
BEGIN:VEVENT
DTSTART;TZID=America/New_York:20240128T130000
DTEND;TZID=America/New_York:20240128T150000
DTSTAMP:20260420T041808
CREATED:20231222T173405Z
LAST-MODIFIED:20231222T173541Z
UID:11034-1706446800-1706454000@cedarvalewinery.com
SUMMARY:Paint and Sip at Cedarvale Winery
DESCRIPTION:Grab some friends and have a Sunday Funday Paint N Sip at Cedarvale Winery! Sip on your favorite Cedarvale Wine while our artists guide you to create your choice of two cozy 3d Signs: Coffee and Cocoa -or- Love Lives Here. We’ll provide a variety of paint colors to match your decor and teach you fun and easy painting techniques to make the project uniquely yours. No Experience Required! As always\, PAINT N TAKE same day!\nCOST: $46 pp\n​Included: \n• 3d Coffee and Cocoa Sign -OR- Love Lives Here (both are 12″ Round/Square)*\n• 1 Complementary Glass of Wine\n• Painting Instruction by our talented artists\n• All art supplies included\n• Laughter\, relaxation\, fun!\n**A large Selection of Cedarvale Wines + a Charcuterie Board and Snacks will be available for additional purchase. You are also welcome to bring in your own snacks too! ** Due to insurance regulations\, NO outside wine is allowed.\n*Please arrive at 12:30pm to get seated\, and select your complementary glass of wine.
URL:https://cedarvalewinery.com/event/paint-and-sip-at-cedarvale-winery/
CATEGORIES:Cedarvale Hosted Events
ATTACH;FMTTYPE=image/jpeg:https://cedarvalewinery.com/wp-content/uploads/2023/12/paintandsip.jpeg
END:VEVENT
BEGIN:VEVENT
DTSTART;VALUE=DATE:20240201
DTEND;VALUE=DATE:20240301
DTSTAMP:20260420T041808
CREATED:20240219T231818Z
LAST-MODIFIED:20240219T231818Z
UID:11183-1706745600-1709251199@cedarvalewinery.com
SUMMARY:Damask Candies with Cedarvale wine flights
DESCRIPTION:For the month of February- we are pairing Damask Candies with Cedarvale wine flights. $15 includes 4 wine samples\, 5 chocolate pieces. We also have special wine beverages for the month.
URL:https://cedarvalewinery.com/event/damask-candies-with-cedarvale-wine-flights/
CATEGORIES:Cedarvale Hosted Events
ATTACH;FMTTYPE=image/png:https://cedarvalewinery.com/wp-content/uploads/2024/02/Wine-choco.png
END:VEVENT
BEGIN:VEVENT
DTSTART;TZID=America/New_York:20240201T170000
DTEND;TZID=America/New_York:20240201T193000
DTSTAMP:20260420T041808
CREATED:20240115T165353Z
LAST-MODIFIED:20240115T165353Z
UID:11080-1706806800-1706815800@cedarvalewinery.com
SUMMARY:Wine and Wisdom Tarot Card Readings
DESCRIPTION:10 minutes for $20. Appointments scheduled starting at 5pm\, running every 15 minutes until 7:30pm. Please call or message for a reservation. 856.467.3088
URL:https://cedarvalewinery.com/event/wine-and-wisdom-tarot-card-readings/
ATTACH;FMTTYPE=image/jpeg:https://cedarvalewinery.com/wp-content/uploads/2023/08/unnamed-3.jpg
END:VEVENT
BEGIN:VEVENT
DTSTART;TZID=America/New_York:20240203T150000
DTEND;TZID=America/New_York:20240203T180000
DTSTAMP:20260420T041808
CREATED:20240115T184453Z
LAST-MODIFIED:20240115T184453Z
UID:11086-1706972400-1706983200@cedarvalewinery.com
SUMMARY:Live Music with Jimmy Dunn
DESCRIPTION:
URL:https://cedarvalewinery.com/event/live-music-with-jimmy-dunn-2/
ATTACH;FMTTYPE=image/jpeg:https://cedarvalewinery.com/wp-content/uploads/2023/01/jimmy-dunn-e1674494502709.jpg
END:VEVENT
BEGIN:VEVENT
DTSTART;TZID=America/New_York:20240203T190000
DTEND;TZID=America/New_York:20240203T220000
DTSTAMP:20260420T041808
CREATED:20240108T190229Z
LAST-MODIFIED:20240108T190229Z
UID:11041-1706986800-1706997600@cedarvalewinery.com
SUMMARY:Cedarvale Winery presents Kricket Comedy
DESCRIPTION:Featuring: Steve Young\, Leah Renee & Eddie Gallagher\nTickets: https://kricket-comedy.seatengine-sites.com/shows/249157
URL:https://cedarvalewinery.com/event/cedarvale-winery-presents-kricket-comedy/
ATTACH;FMTTYPE=image/jpeg:https://cedarvalewinery.com/wp-content/uploads/2024/01/kricket-comedy.jpeg
END:VEVENT
BEGIN:VEVENT
DTSTART;TZID=America/New_York:20240210T120000
DTEND;TZID=America/New_York:20240211T170000
DTSTAMP:20260420T041808
CREATED:20240115T185709Z
LAST-MODIFIED:20240208T195405Z
UID:11093-1707566400-1707670800@cedarvalewinery.com
SUMMARY:Chocolate & Wine Weekend
DESCRIPTION:Saturday Feb. 10 – Sunday Feb. 11\nNOON TO 5PM
URL:https://cedarvalewinery.com/event/chocolate-wine-weekend-2/
ATTACH;FMTTYPE=image/jpeg:https://cedarvalewinery.com/wp-content/uploads/2024/01/Wine-_-Chocolate-scaled-e1707422029119.jpg
END:VEVENT
BEGIN:VEVENT
DTSTART;TZID=America/New_York:20240210T150000
DTEND;TZID=America/New_York:20240210T180000
DTSTAMP:20260420T041808
CREATED:20240115T185806Z
LAST-MODIFIED:20240208T195902Z
UID:11095-1707577200-1707588000@cedarvalewinery.com
SUMMARY:Live Music with Rob McMahon
DESCRIPTION:
URL:https://cedarvalewinery.com/event/live-music-with-rob-mcmahon-8/
ATTACH;FMTTYPE=image/jpeg:https://cedarvalewinery.com/wp-content/uploads/2024/01/rob-Large.jpeg
END:VEVENT
BEGIN:VEVENT
DTSTART;TZID=America/New_York:20240217T150000
DTEND;TZID=America/New_York:20240217T180000
DTSTAMP:20260420T041808
CREATED:20240212T105625Z
LAST-MODIFIED:20240212T105626Z
UID:11151-1708182000-1708192800@cedarvalewinery.com
SUMMARY:Live Music with Guy Campo
DESCRIPTION:
URL:https://cedarvalewinery.com/event/live-music-with-guy-campo-2/
CATEGORIES:Cedarvale Hosted Events
ATTACH;FMTTYPE=image/jpeg:https://cedarvalewinery.com/wp-content/uploads/2023/01/unnamed-1.jpg
END:VEVENT
BEGIN:VEVENT
DTSTART;TZID=America/New_York:20240218T090000
DTEND;TZID=America/New_York:20240218T170000
DTSTAMP:20260420T041808
CREATED:20240115T185930Z
LAST-MODIFIED:20240205T142501Z
UID:11099-1708246800-1708275600@cedarvalewinery.com
SUMMARY:Crystal Sound Bath Meditation by Dani
DESCRIPTION:Doors open at 9am\nClass begins at 9:30am.\nClass is finished at 11am.\nPlease call for reservations 856.467.3088\nBring yoga mat\, pillow and blanket.\n$20 per person
URL:https://cedarvalewinery.com/event/crystal-sound-bath-meditation-by-dani/
ATTACH;FMTTYPE=image/jpeg:https://cedarvalewinery.com/wp-content/uploads/2024/01/image_50430209-scaled.jpeg
END:VEVENT
BEGIN:VEVENT
DTSTART;TZID=America/New_York:20240224T130000
DTEND;TZID=America/New_York:20240224T170000
DTSTAMP:20260420T041808
CREATED:20240115T190036Z
LAST-MODIFIED:20240115T190036Z
UID:11102-1708779600-1708794000@cedarvalewinery.com
SUMMARY:Chili Cookoff
DESCRIPTION:Do you make the best chili? Please call to enter 856.476.3088 ~ Contest tasting begins at 1pm. Results will bet announced at 2:45.
URL:https://cedarvalewinery.com/event/chili-cookoff-3/
ATTACH;FMTTYPE=image/jpeg:https://cedarvalewinery.com/wp-content/uploads/2021/04/chili-DAB6L6V.jpg
END:VEVENT
BEGIN:VEVENT
DTSTART;TZID=America/New_York:20240224T134500
DTEND;TZID=America/New_York:20240224T180000
DTSTAMP:20260420T041808
CREATED:20240223T142734Z
LAST-MODIFIED:20240223T142825Z
UID:11220-1708782300-1708797600@cedarvalewinery.com
SUMMARY:Oscar Mayer Weinermobile
DESCRIPTION:Oscar Mayer Weinermobile will be at the Chili Cook Off with Live music by RHONDO – from 1:45 to 6pm.\nAll are welcome!Any questions please call 856.467.308
URL:https://cedarvalewinery.com/event/oscar-mayer-weinermobile-will-be-at-the-chili-cook-off-with-live-music-by-rhondo/
ATTACH;FMTTYPE=image/jpeg:https://cedarvalewinery.com/wp-content/uploads/2024/02/Oscar-scaled.jpeg
END:VEVENT
BEGIN:VEVENT
DTSTART;TZID=America/New_York:20240224T150000
DTEND;TZID=America/New_York:20240224T180000
DTSTAMP:20260420T041808
CREATED:20240115T190148Z
LAST-MODIFIED:20240219T233042Z
UID:11104-1708786800-1708797600@cedarvalewinery.com
SUMMARY:Live Music with Rhondo
DESCRIPTION:
URL:https://cedarvalewinery.com/event/live-music-with-rhondo-plue-one/
ATTACH;FMTTYPE=image/jpeg:https://cedarvalewinery.com/wp-content/uploads/2021/05/Rhondo-scaled.jpeg
END:VEVENT
BEGIN:VEVENT
DTSTART;TZID=America/New_York:20240225T130000
DTEND;TZID=America/New_York:20240225T170000
DTSTAMP:20260420T041808
CREATED:20240115T190230Z
LAST-MODIFIED:20240115T190230Z
UID:11106-1708866000-1708880400@cedarvalewinery.com
SUMMARY:Flower Craft – Paper Flowers
DESCRIPTION:$20 class includes a glass of wine\, products and instruction by Patti.
URL:https://cedarvalewinery.com/event/flower-craft-paper-flowers/
END:VEVENT
BEGIN:VEVENT
DTSTART;TZID=America/New_York:20240302T150000
DTEND;TZID=America/New_York:20240302T180000
DTSTAMP:20260420T041808
CREATED:20240115T190324Z
LAST-MODIFIED:20240115T190324Z
UID:11108-1709391600-1709402400@cedarvalewinery.com
SUMMARY:Live Music with Rob McMahon
DESCRIPTION:
URL:https://cedarvalewinery.com/event/live-music-with-rob-mcmahon-9/
ATTACH;FMTTYPE=image/jpeg:https://cedarvalewinery.com/wp-content/uploads/2021/05/Rob-McMahon-scaled.jpeg
END:VEVENT
BEGIN:VEVENT
DTSTART;TZID=America/New_York:20240307T170000
DTEND;TZID=America/New_York:20240307T193000
DTSTAMP:20260420T041808
CREATED:20240115T190441Z
LAST-MODIFIED:20240219T234116Z
UID:11110-1709830800-1709839800@cedarvalewinery.com
SUMMARY:Wine & Wisdom Tarot Card Reading with Rocky
DESCRIPTION:10 min $20. Reservations begins at 5pm and run every 15 minutes until 7:30.
URL:https://cedarvalewinery.com/event/wine-wisdom-tarot-card-reading-with-rocky/
ATTACH;FMTTYPE=image/jpeg:https://cedarvalewinery.com/wp-content/uploads/2023/08/unnamed-3.jpg
END:VEVENT
BEGIN:VEVENT
DTSTART;TZID=America/New_York:20240309T150000
DTEND;TZID=America/New_York:20240309T180000
DTSTAMP:20260420T041808
CREATED:20240212T110427Z
LAST-MODIFIED:20240212T110427Z
UID:11156-1709996400-1710007200@cedarvalewinery.com
SUMMARY:Live Music with Guy Campo
DESCRIPTION:
URL:https://cedarvalewinery.com/event/live-music-with-guy-campo-3/
CATEGORIES:Cedarvale Hosted Events
ATTACH;FMTTYPE=image/jpeg:https://cedarvalewinery.com/wp-content/uploads/2023/01/unnamed-1.jpg
END:VEVENT
BEGIN:VEVENT
DTSTART;TZID=America/New_York:20240310T130000
DTEND;TZID=America/New_York:20240310T150000
DTSTAMP:20260420T041808
CREATED:20240115T190612Z
LAST-MODIFIED:20240219T233824Z
UID:11114-1710075600-1710082800@cedarvalewinery.com
SUMMARY:Floral Design & Wine event with Orange You Crafty
DESCRIPTION:Our next Floral Design & Wine event with Orange You Crafty is coming up soon!\nJoin us for an afternoon of crafts and wine! \nChoose from a silk flower spring watering can -OR- a photo collage vase! \nEach ticket is $45 and includes a glass of wine or a non-alcoholic beverage! \nDM or email for tickets! Orangeyoucraftynj@gmail.com
URL:https://cedarvalewinery.com/event/craft-with-orange-you-crafty/
ATTACH;FMTTYPE=image/jpeg:https://cedarvalewinery.com/wp-content/uploads/2024/01/Orange-County-scaled.jpeg
END:VEVENT
BEGIN:VEVENT
DTSTART;TZID=America/New_York:20240314T180000
DTEND;TZID=America/New_York:20240314T200000
DTSTAMP:20260420T041808
CREATED:20240214T205810Z
LAST-MODIFIED:20240214T205810Z
UID:11179-1710439200-1710446400@cedarvalewinery.com
SUMMARY:Make a Graze – Charcuterie Workshop
DESCRIPTION:Save the date for a fun night out where you’ll get to sip on your favorite wines from Cedarvale Winery while creating your own grazing board\, instructed by Acts of Graze owner\, Melissa Mangiaracina!
URL:https://cedarvalewinery.com/event/make-a-graze-charcuterie-workshop/
CATEGORIES:Cedarvale Hosted Events
ATTACH;FMTTYPE=image/jpeg:https://cedarvalewinery.com/wp-content/uploads/2024/02/426900291_712074264408587_5655513646434119608_n.jpg
END:VEVENT
BEGIN:VEVENT
DTSTART;TZID=America/New_York:20240316T150000
DTEND;TZID=America/New_York:20240316T180000
DTSTAMP:20260420T041808
CREATED:20240115T190703Z
LAST-MODIFIED:20240115T190703Z
UID:11116-1710601200-1710612000@cedarvalewinery.com
SUMMARY:Celebrate St.Paddy’s with Jimmy Dunn
DESCRIPTION:
URL:https://cedarvalewinery.com/event/celebrate-st-paddys-with-jimmy-dunn/
ATTACH;FMTTYPE=image/jpeg:https://cedarvalewinery.com/wp-content/uploads/2023/01/jimmy-dunn-e1674494502709.jpg
END:VEVENT
BEGIN:VEVENT
DTSTART;TZID=America/New_York:20240323T150000
DTEND;TZID=America/New_York:20240323T180000
DTSTAMP:20260420T041808
CREATED:20240115T190750Z
LAST-MODIFIED:20240115T190750Z
UID:11118-1711206000-1711216800@cedarvalewinery.com
SUMMARY:Live Music with Rhondo
DESCRIPTION:
URL:https://cedarvalewinery.com/event/live-music-with-rhondo-10/
ATTACH;FMTTYPE=image/jpeg:https://cedarvalewinery.com/wp-content/uploads/2021/05/Rhondo-scaled.jpeg
END:VEVENT
BEGIN:VEVENT
DTSTART;TZID=America/New_York:20240323T150000
DTEND;TZID=America/New_York:20240323T180000
DTSTAMP:20260420T041808
CREATED:20240212T114501Z
LAST-MODIFIED:20240212T114501Z
UID:11166-1711206000-1711216800@cedarvalewinery.com
SUMMARY:Live Music with Rhondo
DESCRIPTION:
URL:https://cedarvalewinery.com/event/live-music-with-rhondo-11/
CATEGORIES:Cedarvale Hosted Events
ATTACH;FMTTYPE=image/png:https://cedarvalewinery.com/wp-content/uploads/2024/02/Rhondo.png
END:VEVENT
BEGIN:VEVENT
DTSTART;TZID=America/New_York:20240324T130000
DTEND;TZID=America/New_York:20240324T170000
DTSTAMP:20260420T041808
CREATED:20240301T195943Z
LAST-MODIFIED:20240301T200008Z
UID:11232-1711285200-1711299600@cedarvalewinery.com
SUMMARY:Dog Collar Mission
DESCRIPTION:Come with your creativity and make an awesome dog collar while benefiting a great cause!  \nRegister & Pay here:\nhttps://www.dogcollarmission.com/products/cedarvale-winery-logan-township-3-24-24-1pm\n \n\nIncluded: \n\nA leather dog collar pre cut to size.\n\n\nYou will stamp your pets name\, phone number\, and address (if you have space & choose to)\nYou will be able to stain the collar\, decorate it\, and color it in!\n\nNo refunds\, if you are unable to make it\, your dog collar will be made for you and mailed to you. \n\n		\n		\n			\n				\n			\n			\n				\n			\n			\n				\n			\n		\n\n 
URL:https://cedarvalewinery.com/event/dog-collar-mission/
ATTACH;FMTTYPE=image/jpeg:https://cedarvalewinery.com/wp-content/uploads/2024/03/image_67239681-scaled.jpg
END:VEVENT
BEGIN:VEVENT
DTSTART;TZID=America/New_York:20240406T150000
DTEND;TZID=America/New_York:20240406T180000
DTSTAMP:20260420T041808
CREATED:20240212T114612Z
LAST-MODIFIED:20240212T114612Z
UID:11170-1712415600-1712426400@cedarvalewinery.com
SUMMARY:Live Music with Rob McMahon
DESCRIPTION:
URL:https://cedarvalewinery.com/event/live-music-with-rob-mcmahon-10/
ATTACH;FMTTYPE=image/jpeg:https://cedarvalewinery.com/wp-content/uploads/2024/01/rob-Large.jpeg
END:VEVENT
END:VCALENDAR