BEGIN:VCALENDAR
VERSION:2.0
PRODID:-//Cedarvale Winery - ECPv6.15.20//NONSGML v1.0//EN
CALSCALE:GREGORIAN
METHOD:PUBLISH
X-WR-CALNAME:Cedarvale Winery
X-ORIGINAL-URL:https://cedarvalewinery.com
X-WR-CALDESC:Events for Cedarvale Winery
REFRESH-INTERVAL;VALUE=DURATION:PT1H
X-Robots-Tag:noindex
X-PUBLISHED-TTL:PT1H
BEGIN:VTIMEZONE
TZID:America/New_York
BEGIN:DAYLIGHT
TZOFFSETFROM:-0500
TZOFFSETTO:-0400
TZNAME:EDT
DTSTART:20240310T070000
END:DAYLIGHT
BEGIN:STANDARD
TZOFFSETFROM:-0400
TZOFFSETTO:-0500
TZNAME:EST
DTSTART:20241103T060000
END:STANDARD
BEGIN:DAYLIGHT
TZOFFSETFROM:-0500
TZOFFSETTO:-0400
TZNAME:EDT
DTSTART:20250309T070000
END:DAYLIGHT
BEGIN:STANDARD
TZOFFSETFROM:-0400
TZOFFSETTO:-0500
TZNAME:EST
DTSTART:20251102T060000
END:STANDARD
BEGIN:DAYLIGHT
TZOFFSETFROM:-0500
TZOFFSETTO:-0400
TZNAME:EDT
DTSTART:20260308T070000
END:DAYLIGHT
BEGIN:STANDARD
TZOFFSETFROM:-0400
TZOFFSETTO:-0500
TZNAME:EST
DTSTART:20261101T060000
END:STANDARD
END:VTIMEZONE
BEGIN:VEVENT
DTSTART;TZID=America/New_York:20250908T180000
DTEND;TZID=America/New_York:20250908T200000
DTSTAMP:20260425T065105
CREATED:20250819T060349Z
LAST-MODIFIED:20250819T060701Z
UID:12578-1757354400-1757361600@cedarvalewinery.com
SUMMARY:Book Club Beautiful Ugly
DESCRIPTION:
URL:https://cedarvalewinery.com/event/book-club-beautiful-ugly/
ATTACH;FMTTYPE=image/jpeg:https://cedarvalewinery.com/wp-content/uploads/2025/04/470476101_18471661975050874_6197654725579138339_n.jpg
END:VEVENT
BEGIN:VEVENT
DTSTART;TZID=America/New_York:20250906T150000
DTEND;TZID=America/New_York:20250906T180000
DTSTAMP:20260425T065105
CREATED:20250819T055819Z
LAST-MODIFIED:20250819T055819Z
UID:12571-1757170800-1757181600@cedarvalewinery.com
SUMMARY:Live music by Guy Campo
DESCRIPTION:
URL:https://cedarvalewinery.com/event/live-music-by-guy-campo/
ATTACH;FMTTYPE=image/jpeg:https://cedarvalewinery.com/wp-content/uploads/2025/02/Guy-Campo.jpg
END:VEVENT
BEGIN:VEVENT
DTSTART;TZID=America/New_York:20250904T170000
DTEND;TZID=America/New_York:20250904T193000
DTSTAMP:20260425T065105
CREATED:20250819T053450Z
LAST-MODIFIED:20250819T055021Z
UID:12559-1757005200-1757014200@cedarvalewinery.com
SUMMARY:Wine & Wisdom Tarot Card Reading by Rocky
DESCRIPTION:Thursday\, September 4th from 5 to 7:30pm
URL:https://cedarvalewinery.com/event/wine-wisdom-tarot-card-reading-by-rocky/
ATTACH;FMTTYPE=image/jpeg:https://cedarvalewinery.com/wp-content/uploads/2025/01/IMG_7170-scaled.jpeg
END:VEVENT
BEGIN:VEVENT
DTSTART;TZID=America/New_York:20250823T150000
DTEND;TZID=America/New_York:20250823T180000
DTSTAMP:20260425T065105
CREATED:20250819T050818Z
LAST-MODIFIED:20250819T050818Z
UID:12539-1755961200-1755972000@cedarvalewinery.com
SUMMARY:4’s A Crowd – Live music
DESCRIPTION:
URL:https://cedarvalewinery.com/event/4s-a-crowd-live-music-3/
ATTACH;FMTTYPE=image/jpeg:https://cedarvalewinery.com/wp-content/uploads/2025/08/IMG_2479.jpeg
END:VEVENT
BEGIN:VEVENT
DTSTART;TZID=America/New_York:20250809T150000
DTEND;TZID=America/New_York:20250809T180000
DTSTAMP:20260425T065105
CREATED:20250613T111623Z
LAST-MODIFIED:20250613T111623Z
UID:12483-1754751600-1754762400@cedarvalewinery.com
SUMMARY:Live Music with Jimmy Dunn
DESCRIPTION:
URL:https://cedarvalewinery.com/event/live-music-with-jimmy-dunn-13/
ATTACH;FMTTYPE=image/jpeg:https://cedarvalewinery.com/wp-content/uploads/2023/01/383202798_1059882601814246_5655771603273117063_n.jpg
END:VEVENT
BEGIN:VEVENT
DTSTART;TZID=America/New_York:20250807T170000
DTEND;TZID=America/New_York:20250807T193000
DTSTAMP:20260425T065105
CREATED:20250613T111006Z
LAST-MODIFIED:20250613T111006Z
UID:12473-1754586000-1754595000@cedarvalewinery.com
SUMMARY:Wine and Wisdom Tarot Cards
DESCRIPTION:
URL:https://cedarvalewinery.com/event/wine-and-wisdom-tarot-cards/
ATTACH;FMTTYPE=image/jpeg:https://cedarvalewinery.com/wp-content/uploads/2025/01/IMG_7170-scaled.jpeg
END:VEVENT
BEGIN:VEVENT
DTSTART;TZID=America/New_York:20250802T150000
DTEND;TZID=America/New_York:20250802T180000
DTSTAMP:20260425T065105
CREATED:20250613T110127Z
LAST-MODIFIED:20250613T110127Z
UID:12467-1754146800-1754157600@cedarvalewinery.com
SUMMARY:Live Music with John Rossi & Jerry Mayall
DESCRIPTION:
URL:https://cedarvalewinery.com/event/live-music-with-john-rossi-jerry-mayall-4/
ATTACH;FMTTYPE=image/jpeg:https://cedarvalewinery.com/wp-content/uploads/2023/01/jerry-and-joe.jpeg
END:VEVENT
BEGIN:VEVENT
DTSTART;TZID=America/New_York:20250726T150000
DTEND;TZID=America/New_York:20250726T180000
DTSTAMP:20260425T065105
CREATED:20250613T105542Z
LAST-MODIFIED:20250613T105542Z
UID:12458-1753542000-1753552800@cedarvalewinery.com
SUMMARY:The Funk Perpetrators
DESCRIPTION:
URL:https://cedarvalewinery.com/event/the-funk-perpetrators-2/
ATTACH;FMTTYPE=image/jpeg:https://cedarvalewinery.com/wp-content/uploads/2025/02/96EF78FD-B019-4F17-BD8D-5391AD84B819.jpeg
END:VEVENT
BEGIN:VEVENT
DTSTART;TZID=America/New_York:20250720T080000
DTEND;TZID=America/New_York:20250720T170000
DTSTAMP:20260425T065105
CREATED:20250613T104413Z
LAST-MODIFIED:20250613T104413Z
UID:12444-1752998400-1753030800@cedarvalewinery.com
SUMMARY:Crystal Sound Bath
DESCRIPTION:Morning\nCall for information
URL:https://cedarvalewinery.com/event/crystal-sound-bath-5/
ATTACH;FMTTYPE=image/jpeg:https://cedarvalewinery.com/wp-content/uploads/2024/10/image_50430209-300x225-1.jpeg
END:VEVENT
BEGIN:VEVENT
DTSTART;TZID=America/New_York:20250719T150000
DTEND;TZID=America/New_York:20250719T180000
DTSTAMP:20260425T065105
CREATED:20250613T103740Z
LAST-MODIFIED:20250613T103740Z
UID:12435-1752937200-1752948000@cedarvalewinery.com
SUMMARY:Live Music with Rhondo
DESCRIPTION:Over 10 vendors \n Two Food Vendors \n Don’t Bully Us Animal Rescue
URL:https://cedarvalewinery.com/event/live-music-with-rhondo-21/
ATTACH;FMTTYPE=image/png:https://cedarvalewinery.com/wp-content/uploads/2024/02/Rhondo.png
END:VEVENT
BEGIN:VEVENT
DTSTART;TZID=America/New_York:20250719T120000
DTEND;TZID=America/New_York:20250719T180000
DTSTAMP:20260425T065105
CREATED:20250613T103257Z
LAST-MODIFIED:20250613T103257Z
UID:12431-1752926400-1752948000@cedarvalewinery.com
SUMMARY:Christmas in July
DESCRIPTION:
URL:https://cedarvalewinery.com/event/christmas-in-july-2/
END:VEVENT
BEGIN:VEVENT
DTSTART;TZID=America/New_York:20250714T180000
DTEND;TZID=America/New_York:20250714T200000
DTSTAMP:20260425T065105
CREATED:20250613T102709Z
LAST-MODIFIED:20250613T102852Z
UID:12428-1752516000-1752523200@cedarvalewinery.com
SUMMARY:Book Club
DESCRIPTION:
URL:https://cedarvalewinery.com/event/book-club-4/
ATTACH;FMTTYPE=image/jpeg:https://cedarvalewinery.com/wp-content/uploads/2025/04/470476101_18471661975050874_6197654725579138339_n.jpg
END:VEVENT
BEGIN:VEVENT
DTSTART;TZID=America/New_York:20250713T160000
DTEND;TZID=America/New_York:20250713T190000
DTSTAMP:20260425T065105
CREATED:20250613T102350Z
LAST-MODIFIED:20250613T102350Z
UID:12425-1752422400-1752433200@cedarvalewinery.com
SUMMARY:4’s A Crowd Live Music
DESCRIPTION:
URL:https://cedarvalewinery.com/event/4s-a-crowd-live-music-2/
END:VEVENT
BEGIN:VEVENT
DTSTART;TZID=America/New_York:20250712T150000
DTEND;TZID=America/New_York:20250712T180000
DTSTAMP:20260425T065105
CREATED:20250613T101201Z
LAST-MODIFIED:20250613T101201Z
UID:12409-1752332400-1752343200@cedarvalewinery.com
SUMMARY:Live Music with Jimmy Dunn
DESCRIPTION:
URL:https://cedarvalewinery.com/event/live-music-with-jimmy-dunn-12/
ATTACH;FMTTYPE=image/jpeg:https://cedarvalewinery.com/wp-content/uploads/2023/01/383202798_1059882601814246_5655771603273117063_n.jpg
END:VEVENT
BEGIN:VEVENT
DTSTART;TZID=America/New_York:20250712T130000
DTEND;TZID=America/New_York:20250712T170000
DTSTAMP:20260425T065105
CREATED:20250613T101830Z
LAST-MODIFIED:20250613T101830Z
UID:12417-1752325200-1752339600@cedarvalewinery.com
SUMMARY:Island Eats Food Truck
DESCRIPTION:
URL:https://cedarvalewinery.com/event/island-eats-food-truck-2/
ATTACH;FMTTYPE=image/jpeg:https://cedarvalewinery.com/wp-content/uploads/2025/03/limage-14302-146-photo.jpg
END:VEVENT
BEGIN:VEVENT
DTSTART;TZID=America/New_York:20250710T170000
DTEND;TZID=America/New_York:20250710T193000
DTSTAMP:20260425T065105
CREATED:20250613T100610Z
LAST-MODIFIED:20250613T100610Z
UID:12401-1752166800-1752175800@cedarvalewinery.com
SUMMARY:Wine & Wisdom Tarot Card
DESCRIPTION:
URL:https://cedarvalewinery.com/event/wine-wisdom-tarot-card/
ATTACH;FMTTYPE=image/jpeg:https://cedarvalewinery.com/wp-content/uploads/2025/01/IMG_7170-scaled.jpeg
END:VEVENT
BEGIN:VEVENT
DTSTART;TZID=America/New_York:20250705T080000
DTEND;TZID=America/New_York:20250705T170000
DTSTAMP:20260425T065105
CREATED:20250613T100244Z
LAST-MODIFIED:20250613T100244Z
UID:12399-1751702400-1751734800@cedarvalewinery.com
SUMMARY:No Music
DESCRIPTION:
URL:https://cedarvalewinery.com/event/no-music/
END:VEVENT
BEGIN:VEVENT
DTSTART;TZID=America/New_York:20250704T080000
DTEND;TZID=America/New_York:20250704T170000
DTSTAMP:20260425T065105
CREATED:20250613T100159Z
LAST-MODIFIED:20250613T100159Z
UID:12397-1751616000-1751648400@cedarvalewinery.com
SUMMARY:Closed July 4th
DESCRIPTION:
URL:https://cedarvalewinery.com/event/closed-july-4th/
END:VEVENT
BEGIN:VEVENT
DTSTART;TZID=America/New_York:20250628T150000
DTEND;TZID=America/New_York:20250628T180000
DTSTAMP:20260425T065105
CREATED:20250613T095613Z
LAST-MODIFIED:20250613T095613Z
UID:12388-1751122800-1751133600@cedarvalewinery.com
SUMMARY:The Funk Perpetrators
DESCRIPTION:
URL:https://cedarvalewinery.com/event/the-funk-perpetrators/
ATTACH;FMTTYPE=image/jpeg:https://cedarvalewinery.com/wp-content/uploads/2025/02/96EF78FD-B019-4F17-BD8D-5391AD84B819.jpeg
END:VEVENT
BEGIN:VEVENT
DTSTART;TZID=America/New_York:20250622T160000
DTEND;TZID=America/New_York:20250622T190000
DTSTAMP:20260425T065105
CREATED:20250613T095243Z
LAST-MODIFIED:20250613T095243Z
UID:12386-1750608000-1750618800@cedarvalewinery.com
SUMMARY:4’s A Crowd Live Music
DESCRIPTION:
URL:https://cedarvalewinery.com/event/4s-a-crowd-live-music/
END:VEVENT
BEGIN:VEVENT
DTSTART;TZID=America/New_York:20250621T150000
DTEND;TZID=America/New_York:20250621T180000
DTSTAMP:20260425T065105
CREATED:20250613T093832Z
LAST-MODIFIED:20250613T093832Z
UID:12369-1750518000-1750528800@cedarvalewinery.com
SUMMARY:Live Music with Rhondo
DESCRIPTION:
URL:https://cedarvalewinery.com/event/live-music-with-rhondo-20/
ATTACH;FMTTYPE=image/png:https://cedarvalewinery.com/wp-content/uploads/2024/02/Rhondo.png
END:VEVENT
BEGIN:VEVENT
DTSTART;TZID=America/New_York:20250621T113000
DTEND;TZID=America/New_York:20250621T160000
DTSTAMP:20260425T065105
CREATED:20250613T094556Z
LAST-MODIFIED:20250613T094556Z
UID:12371-1750505400-1750521600@cedarvalewinery.com
SUMMARY:Island East’s Food Truck
DESCRIPTION:
URL:https://cedarvalewinery.com/event/island-easts-food-truck/
ATTACH;FMTTYPE=image/jpeg:https://cedarvalewinery.com/wp-content/uploads/2025/03/limage-14302-146-photo.jpg
END:VEVENT
BEGIN:VEVENT
DTSTART;TZID=America/New_York:20250614T150000
DTEND;TZID=America/New_York:20250614T180000
DTSTAMP:20260425T065105
CREATED:20250613T092412Z
LAST-MODIFIED:20250613T092412Z
UID:12354-1749913200-1749924000@cedarvalewinery.com
SUMMARY:Live Music with Jimmy Dunn
DESCRIPTION:
URL:https://cedarvalewinery.com/event/live-music-with-jimmy-dunn-11/
ATTACH;FMTTYPE=image/jpeg:https://cedarvalewinery.com/wp-content/uploads/2023/01/jimmy-dunn-e1674494502709.jpg
END:VEVENT
BEGIN:VEVENT
DTSTART;TZID=America/New_York:20250614T130000
DTEND;TZID=America/New_York:20250614T160000
DTSTAMP:20260425T065105
CREATED:20250613T092926Z
LAST-MODIFIED:20250613T092926Z
UID:12358-1749906000-1749916800@cedarvalewinery.com
SUMMARY:Island Eats Food Truck
DESCRIPTION:
URL:https://cedarvalewinery.com/event/island-eats-food-truck/
ATTACH;FMTTYPE=image/jpeg:https://cedarvalewinery.com/wp-content/uploads/2022/09/300271254_111029828386173_6186713390230317770_n.jpeg
END:VEVENT
BEGIN:VEVENT
DTSTART;VALUE=DATE:20250531
DTEND;VALUE=DATE:20250601
DTSTAMP:20260425T065105
CREATED:20250430T170735Z
LAST-MODIFIED:20250430T170735Z
UID:12301-1748649600-1748735999@cedarvalewinery.com
SUMMARY:No Live Music
DESCRIPTION:
URL:https://cedarvalewinery.com/event/no-live-music-2/
END:VEVENT
BEGIN:VEVENT
DTSTART;VALUE=DATE:20250524
DTEND;VALUE=DATE:20250525
DTSTAMP:20260425T065105
CREATED:20250430T170703Z
LAST-MODIFIED:20250430T170703Z
UID:12299-1748044800-1748131199@cedarvalewinery.com
SUMMARY:No Live Music
DESCRIPTION:
URL:https://cedarvalewinery.com/event/no-live-music/
END:VEVENT
BEGIN:VEVENT
DTSTART;TZID=America/New_York:20250518T130000
DTEND;TZID=America/New_York:20250518T160000
DTSTAMP:20260425T065105
CREATED:20250430T170608Z
LAST-MODIFIED:20250430T170608Z
UID:12297-1747573200-1747584000@cedarvalewinery.com
SUMMARY:Live Music with Rocky D
DESCRIPTION:
URL:https://cedarvalewinery.com/event/live-music-with-rocky-d/
END:VEVENT
BEGIN:VEVENT
DTSTART;TZID=America/New_York:20250517T150000
DTEND;TZID=America/New_York:20250517T180000
DTSTAMP:20260425T065105
CREATED:20250430T170457Z
LAST-MODIFIED:20250430T170457Z
UID:12295-1747494000-1747504800@cedarvalewinery.com
SUMMARY:Live Music with Rhondo
DESCRIPTION:
URL:https://cedarvalewinery.com/event/live-music-with-rhondo-19/
ATTACH;FMTTYPE=image/png:https://cedarvalewinery.com/wp-content/uploads/2024/02/Rhondo.png
END:VEVENT
BEGIN:VEVENT
DTSTART;TZID=America/New_York:20250512T180000
DTEND;TZID=America/New_York:20250512T200000
DTSTAMP:20260425T065105
CREATED:20250430T170335Z
LAST-MODIFIED:20250430T170335Z
UID:12293-1747072800-1747080000@cedarvalewinery.com
SUMMARY:Book Club
DESCRIPTION:
URL:https://cedarvalewinery.com/event/book-club-3/
END:VEVENT
BEGIN:VEVENT
DTSTART;TZID=America/New_York:20250511T120000
DTEND;TZID=America/New_York:20250511T160000
DTSTAMP:20260425T065105
CREATED:20250411T154021Z
LAST-MODIFIED:20250411T154021Z
UID:12268-1746964800-1746979200@cedarvalewinery.com
SUMMARY:Mary’s Mobile Diner Food Truck
DESCRIPTION:
URL:https://cedarvalewinery.com/event/marys-mobile-diner-food-truck/
END:VEVENT
END:VCALENDAR