BEGIN:VCALENDAR
VERSION:2.0
PRODID:-//Cedarvale Winery - ECPv6.15.20//NONSGML v1.0//EN
CALSCALE:GREGORIAN
METHOD:PUBLISH
X-WR-CALNAME:Cedarvale Winery
X-ORIGINAL-URL:https://cedarvalewinery.com
X-WR-CALDESC:Events for Cedarvale Winery
REFRESH-INTERVAL;VALUE=DURATION:PT1H
X-Robots-Tag:noindex
X-PUBLISHED-TTL:PT1H
BEGIN:VTIMEZONE
TZID:America/New_York
BEGIN:DAYLIGHT
TZOFFSETFROM:-0500
TZOFFSETTO:-0400
TZNAME:EDT
DTSTART:20230312T070000
END:DAYLIGHT
BEGIN:STANDARD
TZOFFSETFROM:-0400
TZOFFSETTO:-0500
TZNAME:EST
DTSTART:20231105T060000
END:STANDARD
BEGIN:DAYLIGHT
TZOFFSETFROM:-0500
TZOFFSETTO:-0400
TZNAME:EDT
DTSTART:20240310T070000
END:DAYLIGHT
BEGIN:STANDARD
TZOFFSETFROM:-0400
TZOFFSETTO:-0500
TZNAME:EST
DTSTART:20241103T060000
END:STANDARD
BEGIN:DAYLIGHT
TZOFFSETFROM:-0500
TZOFFSETTO:-0400
TZNAME:EDT
DTSTART:20250309T070000
END:DAYLIGHT
BEGIN:STANDARD
TZOFFSETFROM:-0400
TZOFFSETTO:-0500
TZNAME:EST
DTSTART:20251102T060000
END:STANDARD
END:VTIMEZONE
BEGIN:VEVENT
DTSTART;TZID=America/New_York:20240905T170000
DTEND;TZID=America/New_York:20240905T191500
DTSTAMP:20260423T063219
CREATED:20240823T012752Z
LAST-MODIFIED:20240823T115318Z
UID:11549-1725555600-1725563700@cedarvalewinery.com
SUMMARY:Wine & Wisdom Tarot Card Readings with Rocky
DESCRIPTION:10 minutes for $20 \nCall 856.467.3088 for reservation
URL:https://cedarvalewinery.com/event/wine-wisdom-tarot-card-readings-with-rocky/
ATTACH;FMTTYPE=image/jpeg:https://cedarvalewinery.com/wp-content/uploads/2023/08/unnamed-3.jpg
END:VEVENT
BEGIN:VEVENT
DTSTART;TZID=America/New_York:20240907T150000
DTEND;TZID=America/New_York:20240907T180000
DTSTAMP:20260423T063219
CREATED:20240823T012948Z
LAST-MODIFIED:20240823T012948Z
UID:11551-1725721200-1725732000@cedarvalewinery.com
SUMMARY:Live Music with Rob McMahon
DESCRIPTION:
URL:https://cedarvalewinery.com/event/live-music-with-rob-mcmahon-11/
ATTACH;FMTTYPE=image/jpeg:https://cedarvalewinery.com/wp-content/uploads/2024/01/rob-Large.jpeg
END:VEVENT
BEGIN:VEVENT
DTSTART;TZID=America/New_York:20240912T180000
DTEND;TZID=America/New_York:20240912T180000
DTSTAMP:20260423T063219
CREATED:20240823T014658Z
LAST-MODIFIED:20240823T015253Z
UID:11561-1726164000-1726164000@cedarvalewinery.com
SUMMARY:Painting With A twist
DESCRIPTION:Thursday evening\nRegister on their website.
URL:https://cedarvalewinery.com/event/painting-with-a-twist/
END:VEVENT
BEGIN:VEVENT
DTSTART;TZID=America/New_York:20240914T150000
DTEND;TZID=America/New_York:20240914T180000
DTSTAMP:20260423T063219
CREATED:20240823T014925Z
LAST-MODIFIED:20240823T014925Z
UID:11563-1726326000-1726336800@cedarvalewinery.com
SUMMARY:Mike Gordy
DESCRIPTION:
URL:https://cedarvalewinery.com/event/mike-gordy/
END:VEVENT
BEGIN:VEVENT
DTSTART;TZID=America/New_York:20240914T150000
DTEND;TZID=America/New_York:20240914T180000
DTSTAMP:20260423T063219
CREATED:20240911T022610Z
LAST-MODIFIED:20240911T022610Z
UID:11615-1726326000-1726336800@cedarvalewinery.com
SUMMARY:Mike Patrick Gordy
DESCRIPTION:
URL:https://cedarvalewinery.com/event/mike-patrick-gordy/
ATTACH;FMTTYPE=image/png:https://cedarvalewinery.com/wp-content/uploads/2021/10/michael-Patrick.png
END:VEVENT
BEGIN:VEVENT
DTSTART;TZID=America/New_York:20240915T150000
DTEND;TZID=America/New_York:20240915T180000
DTSTAMP:20260423T063219
CREATED:20240823T015327Z
LAST-MODIFIED:20240911T025926Z
UID:11565-1726412400-1726423200@cedarvalewinery.com
SUMMARY:Island Eats ~ Food Tent
DESCRIPTION:
URL:https://cedarvalewinery.com/event/island-eats-food-tent/
ATTACH;FMTTYPE=image/jpeg:https://cedarvalewinery.com/wp-content/uploads/2024/09/Island-Eats.jpg
END:VEVENT
BEGIN:VEVENT
DTSTART;TZID=America/New_York:20240915T150000
DTEND;TZID=America/New_York:20240915T180000
DTSTAMP:20260423T063219
CREATED:20240911T023424Z
LAST-MODIFIED:20240911T024009Z
UID:11618-1726412400-1726423200@cedarvalewinery.com
SUMMARY:John Rossi & Jerry Mayall
DESCRIPTION:
URL:https://cedarvalewinery.com/event/john-rossi-jerry-mayall-3/
ATTACH;FMTTYPE=image/jpeg:https://cedarvalewinery.com/wp-content/uploads/2023/01/jerry-and-joe.jpeg
END:VEVENT
BEGIN:VEVENT
DTSTART;TZID=America/New_York:20240916T180000
DTEND;TZID=America/New_York:20240916T200000
DTSTAMP:20260423T063219
CREATED:20240823T124709Z
LAST-MODIFIED:20240823T124709Z
UID:11601-1726509600-1726516800@cedarvalewinery.com
SUMMARY:Book Club Meeting
DESCRIPTION:General conversation about club ~ discussion on “Educated by Tara Westover”
URL:https://cedarvalewinery.com/event/book-club-meeting/
END:VEVENT
BEGIN:VEVENT
DTSTART;TZID=America/New_York:20240916T180000
DTEND;TZID=America/New_York:20240916T200000
DTSTAMP:20260423T063219
CREATED:20240911T023916Z
LAST-MODIFIED:20240911T024545Z
UID:11621-1726509600-1726516800@cedarvalewinery.com
SUMMARY:Winos Who Read Book
DESCRIPTION:
URL:https://cedarvalewinery.com/event/winos-who-read-book/
END:VEVENT
BEGIN:VEVENT
DTSTART;TZID=America/New_York:20240921T150000
DTEND;TZID=America/New_York:20240921T180000
DTSTAMP:20260423T063219
CREATED:20240823T015521Z
LAST-MODIFIED:20240919T202308Z
UID:11568-1726930800-1726941600@cedarvalewinery.com
SUMMARY:Live Music with Guy Campo
DESCRIPTION:
URL:https://cedarvalewinery.com/event/livemusicwith-guy-campo/
ATTACH;FMTTYPE=image/jpeg:https://cedarvalewinery.com/wp-content/uploads/2023/01/unnamed-1.jpg
END:VEVENT
BEGIN:VEVENT
DTSTART;TZID=America/New_York:20240926T150000
DTEND;TZID=America/New_York:20240926T180000
DTSTAMP:20260423T063219
CREATED:20240911T024405Z
LAST-MODIFIED:20240911T025312Z
UID:11633-1727362800-1727373600@cedarvalewinery.com
SUMMARY:Wine & Cheese pairing with Acts of Graze
DESCRIPTION:
URL:https://cedarvalewinery.com/event/wine-cheese-pairing-with-acts-of-graze/
ATTACH;FMTTYPE=image/jpeg:https://cedarvalewinery.com/wp-content/uploads/2024/09/Wine-Cheese.jpg
END:VEVENT
BEGIN:VEVENT
DTSTART;TZID=America/New_York:20240928T150000
DTEND;TZID=America/New_York:20240928T180000
DTSTAMP:20260423T063219
CREATED:20240823T015733Z
LAST-MODIFIED:20240823T123020Z
UID:11574-1727535600-1727546400@cedarvalewinery.com
SUMMARY:Live Music with Guy Campo
DESCRIPTION:
URL:https://cedarvalewinery.com/event/guy-campo/
ATTACH;FMTTYPE=image/jpeg:https://cedarvalewinery.com/wp-content/uploads/2023/01/unnamed-1.jpg
END:VEVENT
BEGIN:VEVENT
DTSTART;TZID=America/New_York:20241012T150000
DTEND;TZID=America/New_York:20241012T180000
DTSTAMP:20260423T063219
CREATED:20241010T121557Z
LAST-MODIFIED:20241010T121557Z
UID:11673-1728745200-1728756000@cedarvalewinery.com
SUMMARY:Live music with RHONDO
DESCRIPTION:
URL:https://cedarvalewinery.com/event/live-music-with-rhondo-14/
ATTACH;FMTTYPE=image/png:https://cedarvalewinery.com/wp-content/uploads/2024/02/Rhondo.png
END:VEVENT
BEGIN:VEVENT
DTSTART;TZID=America/New_York:20241013T090000
DTEND;TZID=America/New_York:20241013T120000
DTSTAMP:20260423T063219
CREATED:20241010T122656Z
LAST-MODIFIED:20241010T122840Z
UID:11676-1728810000-1728820800@cedarvalewinery.com
SUMMARY:Crystal Sound Bath Meditation
DESCRIPTION:Doors open at 9am ~ Class begins at 9:30\n~ $20 per person.
URL:https://cedarvalewinery.com/event/crystal-sound-bath-meditation/
ATTACH;FMTTYPE=image/jpeg:https://cedarvalewinery.com/wp-content/uploads/2024/01/image_50430209-scaled.jpeg
END:VEVENT
BEGIN:VEVENT
DTSTART;TZID=America/New_York:20241018T180000
DTEND;TZID=America/New_York:20241018T210000
DTSTAMP:20260423T063219
CREATED:20241010T124020Z
LAST-MODIFIED:20241010T125341Z
UID:11682-1729274400-1729285200@cedarvalewinery.com
SUMMARY:Spooktacular Night Market
DESCRIPTION:6 to 9 pm ~ Tarot Card Readings\, and several vendors.
URL:https://cedarvalewinery.com/event/spooktacular-night-market/
ATTACH;FMTTYPE=image/jpeg:https://cedarvalewinery.com/wp-content/uploads/2024/10/unnamed-3-300x226-1.jpg
END:VEVENT
BEGIN:VEVENT
DTSTART;TZID=America/New_York:20241019T150000
DTEND;TZID=America/New_York:20241019T180000
DTSTAMP:20260423T063219
CREATED:20241010T125812Z
LAST-MODIFIED:20241010T125812Z
UID:11702-1729350000-1729360800@cedarvalewinery.com
SUMMARY:Live music with Greg Jones
DESCRIPTION:
URL:https://cedarvalewinery.com/event/live-music-with-greg-jones-5/
ATTACH;FMTTYPE=image/jpeg:https://cedarvalewinery.com/wp-content/uploads/2024/05/image_123650291.jpeg
END:VEVENT
BEGIN:VEVENT
DTSTART;TZID=America/New_York:20241021T180000
DTEND;TZID=America/New_York:20241021T200000
DTSTAMP:20260423T063219
CREATED:20241010T130256Z
LAST-MODIFIED:20241010T130256Z
UID:11709-1729533600-1729540800@cedarvalewinery.com
SUMMARY:Book Club
DESCRIPTION:The Women ~ 6pm to 8pm
URL:https://cedarvalewinery.com/event/book-club/
END:VEVENT
BEGIN:VEVENT
DTSTART;TZID=America/New_York:20241022T180000
DTEND;TZID=America/New_York:20241022T180000
DTSTAMP:20260423T063219
CREATED:20241010T130412Z
LAST-MODIFIED:20241010T130412Z
UID:11711-1729620000-1729620000@cedarvalewinery.com
SUMMARY:Rusty Rudder Pilot Event
DESCRIPTION:6pm\nMore information on our social media page.
URL:https://cedarvalewinery.com/event/rusty-rudder-pilot-event/
END:VEVENT
BEGIN:VEVENT
DTSTART;TZID=America/New_York:20241026T150000
DTEND;TZID=America/New_York:20241026T180000
DTSTAMP:20260423T063219
CREATED:20241010T130644Z
LAST-MODIFIED:20241010T130716Z
UID:11713-1729954800-1729965600@cedarvalewinery.com
SUMMARY:Live Music with Guy Campo
DESCRIPTION:3 to 6pm ~ Costumes Optional
URL:https://cedarvalewinery.com/event/live-music-with-guy-camp/
ATTACH;FMTTYPE=image/jpeg:https://cedarvalewinery.com/wp-content/uploads/2023/01/unnamed-1.jpg
END:VEVENT
BEGIN:VEVENT
DTSTART;TZID=America/New_York:20241027T080000
DTEND;TZID=America/New_York:20241027T170000
DTSTAMP:20260423T063219
CREATED:20241010T131226Z
LAST-MODIFIED:20241010T131226Z
UID:11717-1730016000-1730048400@cedarvalewinery.com
SUMMARY:Sip & Soap by Uplifting Soaps
DESCRIPTION:Tickets on Facebook event page.
URL:https://cedarvalewinery.com/event/sip-soap-by-uplifting-soaps/
END:VEVENT
BEGIN:VEVENT
DTSTART;TZID=America/New_York:20241102T150000
DTEND;TZID=America/New_York:20241102T183000
DTSTAMP:20260423T063219
CREATED:20241010T131358Z
LAST-MODIFIED:20241010T131358Z
UID:11726-1730559600-1730572200@cedarvalewinery.com
SUMMARY:Live Music with Jimmy Dunn
DESCRIPTION:
URL:https://cedarvalewinery.com/event/live-music-with-jimmy-dunn-4/
ATTACH;FMTTYPE=image/jpeg:https://cedarvalewinery.com/wp-content/uploads/2022/10/jimmy-dunn-1-e1674495785479.jpg
END:VEVENT
BEGIN:VEVENT
DTSTART;TZID=America/New_York:20241102T190000
DTEND;TZID=America/New_York:20241102T190000
DTSTAMP:20260423T063219
CREATED:20241010T131749Z
LAST-MODIFIED:20241010T131749Z
UID:11732-1730574000-1730574000@cedarvalewinery.com
SUMMARY:Comedy Show Kricket Comedy
DESCRIPTION:
URL:https://cedarvalewinery.com/event/comedy-show-kricket-comedy/
END:VEVENT
BEGIN:VEVENT
DTSTART;TZID=America/New_York:20241103T080000
DTEND;TZID=America/New_York:20241103T170000
DTSTAMP:20260423T063219
CREATED:20241010T131910Z
LAST-MODIFIED:20241010T131910Z
UID:11734-1730620800-1730653200@cedarvalewinery.com
SUMMARY:Hammer & Stain Workshop
DESCRIPTION:
URL:https://cedarvalewinery.com/event/hammer-stain-workshop/
END:VEVENT
BEGIN:VEVENT
DTSTART;TZID=America/New_York:20241109T150000
DTEND;TZID=America/New_York:20241109T180000
DTSTAMP:20260423T063219
CREATED:20241010T132016Z
LAST-MODIFIED:20241010T132220Z
UID:11736-1731164400-1731175200@cedarvalewinery.com
SUMMARY:Live Music with Rob McMahon
DESCRIPTION:
URL:https://cedarvalewinery.com/event/live-music-with-rob-mcmahon-12/
ATTACH;FMTTYPE=image/jpeg:https://cedarvalewinery.com/wp-content/uploads/2024/01/rob-Large.jpeg
END:VEVENT
BEGIN:VEVENT
DTSTART;TZID=America/New_York:20241110T090000
DTEND;TZID=America/New_York:20241110T110000
DTSTAMP:20260423T063219
CREATED:20241010T132406Z
LAST-MODIFIED:20241010T132529Z
UID:11742-1731229200-1731236400@cedarvalewinery.com
SUMMARY:Crystal Sound Bath Meditation
DESCRIPTION:
URL:https://cedarvalewinery.com/event/crystal-sound-bath-meditation-2/
ATTACH;FMTTYPE=image/jpeg:https://cedarvalewinery.com/wp-content/uploads/2024/01/image_50430209-scaled.jpeg
END:VEVENT
BEGIN:VEVENT
DTSTART;TZID=America/New_York:20241114T170000
DTEND;TZID=America/New_York:20241114T193000
DTSTAMP:20260423T063219
CREATED:20241010T133114Z
LAST-MODIFIED:20241010T133114Z
UID:11750-1731603600-1731612600@cedarvalewinery.com
SUMMARY:Wine & Wisdom Tarot Card Reading
DESCRIPTION:
URL:https://cedarvalewinery.com/event/wine-wisdom-tarot-card-reading-2/
ATTACH;FMTTYPE=image/jpeg:https://cedarvalewinery.com/wp-content/uploads/2024/10/unnamed-3-300x226-1.jpg
END:VEVENT
BEGIN:VEVENT
DTSTART;TZID=America/New_York:20241116T150000
DTEND;TZID=America/New_York:20241116T180000
DTSTAMP:20260423T063219
CREATED:20241010T133611Z
LAST-MODIFIED:20241010T133611Z
UID:11760-1731769200-1731780000@cedarvalewinery.com
SUMMARY:Live Music with Rhondo
DESCRIPTION:
URL:https://cedarvalewinery.com/event/live-music-with-rhondo-15/
ATTACH;FMTTYPE=image/png:https://cedarvalewinery.com/wp-content/uploads/2024/02/Rhondo.png
END:VEVENT
BEGIN:VEVENT
DTSTART;TZID=America/New_York:20241118T180000
DTEND;TZID=America/New_York:20241118T200000
DTSTAMP:20260423T063219
CREATED:20241010T133656Z
LAST-MODIFIED:20241010T133656Z
UID:11762-1731952800-1731960000@cedarvalewinery.com
SUMMARY:Book Club
DESCRIPTION:
URL:https://cedarvalewinery.com/event/book-club-2/
END:VEVENT
BEGIN:VEVENT
DTSTART;TZID=America/New_York:20241123T150000
DTEND;TZID=America/New_York:20241123T180000
DTSTAMP:20260423T063219
CREATED:20241010T133756Z
LAST-MODIFIED:20241010T134915Z
UID:11764-1732374000-1732384800@cedarvalewinery.com
SUMMARY:Live Music with Jimmy Dunn
DESCRIPTION:
URL:https://cedarvalewinery.com/event/live-music-with-jimmy-dunn-5/
ATTACH;FMTTYPE=image/jpeg:https://cedarvalewinery.com/wp-content/uploads/2022/10/jimmy-dunn-1-e1674495785479.jpg
END:VEVENT
BEGIN:VEVENT
DTSTART;TZID=America/New_York:20241124T080000
DTEND;TZID=America/New_York:20241124T170000
DTSTAMP:20260423T063219
CREATED:20241010T133833Z
LAST-MODIFIED:20241010T133833Z
UID:11766-1732435200-1732467600@cedarvalewinery.com
SUMMARY:Hammer & Stain Workshop
DESCRIPTION:
URL:https://cedarvalewinery.com/event/hammer-stain-workshop-2/
END:VEVENT
END:VCALENDAR